BEGIN:VCALENDAR
VERSION:2.0
PRODID:-//Library Market//iCal Export//EN
BEGIN:VEVENT
SUMMARY:Hooked on Books
UID:6167
DTSTAMP:20260423T180200Z
DTSTART:20260519T150000Z
DTEND:20260519T170000Z
LOCATION:Foley Public Library, 319 E Laurel Ave, Foley, AL 36535, United S
 tates
ROOM: Meeting Room
DESCRIPTION:📚 Hooked on Books Book Club 📚📅 Tuesday, May 19⏰ 10:
 00 AM📍 Foley Public LibraryJoin us for another engaging discussion with
  our Hooked on Books book club! ☕📖This month’s selection is Heartwo
 od by Amity Gaige. 🌲✨ This gripping literary mystery follows a solo h
 iker who disappears in the Maine wilderness, sparking a search effort told
  through multiple perspectives—including those leading the search and th
 e missing woman herself. Blending suspense with emotional depth, the story
  explores survival, resilience, and human connection.Come share your thoug
 hts, favorite moments, and interpretations in a relaxed and welcoming sett
 ing. 💬💛 Whether you’ve finished the book or are still reading, all
  are welcome!
URL:https://foleylibrary.librarycalendar.com/event/hooked-books-6167
END:VEVENT
END:VCALENDAR
