BEGIN:VCALENDAR
VERSION:2.0
PRODID:-//Library Market//iCal Export//EN
BEGIN:VEVENT
SUMMARY:Hurricane Preparedness with Riviera Utilities
UID:17434
DTSTAMP:20260423T180200Z
DTSTART:20260520T150000Z
DTEND:20260520T160000Z
LOCATION:Foley Public Library, 319 E Laurel Ave, Foley, AL 36535, United S
 tates
ROOM: Meeting Room
DESCRIPTION:🌪️🌊 Hurricane Preparedness with Riviera Utilities 🌊
 🌪️📅 Wednesday, May 20⏰ 10:00 AM📍 Foley Public Library📝 Reg
 istration RequiredLiving along the Gulf Coast means hurricane season is so
 mething we all need to take seriously, and in coastal areas like Baldwin C
 ounty, being prepared can make all the difference. Join us for this import
 ant program with Riviera Utilities as we learn how to prepare before a sto
 rm hits and what to do when severe weather is on the way. This program is 
 designed to help families feel confident, informed, and ready before hurri
 cane season begins.Topics will include:🌬️ How to build an emergency k
 it🏠 Ways to protect your home and family📱 Understanding alerts and e
 vacuation planning💡 Tips for staying safe during power outages
URL:https://foleylibrary.librarycalendar.com/event/hurricane-preparedness-
 17434
END:VEVENT
END:VCALENDAR
