BEGIN:VCALENDAR
VERSION:2.0
PRODID:-//Library Market//iCal Export//EN
BEGIN:VEVENT
SUMMARY:Explore the Digital Library
UID:16989
DTSTAMP:20260425T005100Z
DTSTART:20260521T190000Z
DTEND:20260521T200000Z
LOCATION:Foley Public Library, 319 E Laurel Ave, Foley, AL 36535, United S
 tates
ROOM: Meeting Room
DESCRIPTION:Your Foley Public Library card gives you access to some amazin
 g apps: Hoopla, Libby, and Mango! Register for the Explore the Digital Lib
 rary seminar and discover what treasures await you.
URL:https://foleylibrary.librarycalendar.com/event/explore-digitial-librar
 y-16989
END:VEVENT
END:VCALENDAR
